BEGIN:VCALENDAR
VERSION:2.0
CREATED:20251215T160039Z
PRODID:-//Cadeler A/S/Equisolve Calendar v1.0//EN
METHOD:PUBLISH
BEGIN:VEVENT
UID:8ec5bb2ad7d673df1cc4842839920815
DTSTAMP:20260424T090040Z
DTSTART:20260520T000000
DTEND:20260521T000000
SUMMARY:Q1 2026 Earnings Release Presentation
DESCRIPTION:Q1 2026 Earnings Release Presentation\nDate: May 20\, 2026
END:VEVENT
END:VCALENDAR
